BEGIN:VCALENDAR
VERSION:2.0
PRODID:-//pretix//pretix-PROD_Wien//
BEGIN:VEVENT
UID:pretix-baeder-ottakring-71765@ticket.wien.gv.at
DTSTART;VALUE=DATE:20250910
DTEND;VALUE=DATE:20250911
DESCRIPTION:Tickets: https://ticket.wien.gv.at/baeder/ottakring/71765/\nVer
 anstalter: MA 44 Wiener Bäder
DTSTAMP:20260425T205626Z
SUMMARY:Badegäste Freibad Mo-So
END:VEVENT
END:VCALENDAR
