BEGIN:VCALENDAR
VERSION:2.0
PRODID:-//pretix//pretix-PROD_Wien//
BEGIN:VEVENT
UID:pretix-baeder-ottakring-70498@ticket.wien.gv.at
DTSTART;VALUE=DATE:20250826
DTEND;VALUE=DATE:20250827
DESCRIPTION:Tickets: https://ticket.wien.gv.at/baeder/ottakring/70498/\nVer
 anstalter: MA 44 Wiener Bäder
DTSTAMP:20260425T174757Z
SUMMARY:Badegäste Freibad Mo-So
END:VEVENT
END:VCALENDAR
