BEGIN:VCALENDAR
VERSION:2.0
PRODID:-//pretix//pretix-PROD_Wien//
BEGIN:VEVENT
UID:pretix-baeder-ottakring-70403@ticket.wien.gv.at
DTSTART;VALUE=DATE:20250823
DTEND;VALUE=DATE:20250824
DESCRIPTION:Tickets: https://ticket.wien.gv.at/baeder/ottakring/70403/\nVer
 anstalter: MA 44 Wiener Bäder
DTSTAMP:20260422T215653Z
SUMMARY:Badegäste Freibad Mo-So
END:VEVENT
END:VCALENDAR
