BEGIN:VCALENDAR
VERSION:2.0
PRODID:-//pretix//pretix-PROD_Wien//
BEGIN:VEVENT
UID:pretix-baeder-ottakring-70236@ticket.wien.gv.at
DTSTART;VALUE=DATE:20250815
DTEND;VALUE=DATE:20250816
DESCRIPTION:Tickets: https://ticket.wien.gv.at/baeder/ottakring/70236/\nVer
 anstalter: MA 44 Wiener Bäder
DTSTAMP:20260423T040806Z
SUMMARY:Badegäste Freibad Mo-So
END:VEVENT
END:VCALENDAR
