BEGIN:VCALENDAR
VERSION:2.0
PRODID:-//pretix//pretix-PROD_Wien//
BEGIN:VEVENT
UID:pretix-baeder-ottakring-69410@ticket.wien.gv.at
DTSTART;VALUE=DATE:20250729
DTEND;VALUE=DATE:20250730
DESCRIPTION:Tickets: https://ticket.wien.gv.at/baeder/ottakring/69410/\nVer
 anstalter: MA 44 Wiener Bäder
DTSTAMP:20260423T053650Z
SUMMARY:Badegäste Freibad Mo-So
END:VEVENT
END:VCALENDAR
