BEGIN:VCALENDAR
VERSION:2.0
PRODID:-//pretix//pretix-PROD_Wien//
BEGIN:VEVENT
UID:pretix-baeder-ottakring-69285@ticket.wien.gv.at
DTSTART;VALUE=DATE:20250724
DTEND;VALUE=DATE:20250725
DESCRIPTION:Tickets: https://ticket.wien.gv.at/baeder/ottakring/69285/\nVer
 anstalter: MA 44 Wiener Bäder
DTSTAMP:20260423T072325Z
SUMMARY:Badegäste Freibad Mo-So
END:VEVENT
END:VCALENDAR
