BEGIN:VCALENDAR
VERSION:2.0
PRODID:-//pretix//pretix-PROD_Wien//
BEGIN:VEVENT
UID:pretix-baeder-ottakring-68946@ticket.wien.gv.at
DTSTART;VALUE=DATE:20250717
DTEND;VALUE=DATE:20250718
DESCRIPTION:Tickets: https://ticket.wien.gv.at/baeder/ottakring/68946/\nVer
 anstalter: MA 44 Wiener Bäder
DTSTAMP:20260423T093714Z
SUMMARY:Badegäste Freibad Mo-So
END:VEVENT
END:VCALENDAR
