BEGIN:VCALENDAR
VERSION:2.0
PRODID:-//pretix//pretix-PROD_Wien//
BEGIN:VEVENT
UID:pretix-baeder-ottakring-68666@ticket.wien.gv.at
DTSTART;VALUE=DATE:20250708
DTEND;VALUE=DATE:20250709
DESCRIPTION:Tickets: https://ticket.wien.gv.at/baeder/ottakring/68666/\nVer
 anstalter: MA 44 Wiener Bäder
DTSTAMP:20260425T173529Z
SUMMARY:Badegäste Freibad Mo-So
END:VEVENT
END:VCALENDAR
