BEGIN:VCALENDAR
VERSION:2.0
PRODID:-//pretix//pretix-PROD_Wien//
BEGIN:VEVENT
UID:pretix-baeder-ottakring-67762@ticket.wien.gv.at
DTSTART;VALUE=DATE:20250621
DTEND;VALUE=DATE:20250622
DESCRIPTION:Tickets: https://ticket.wien.gv.at/baeder/ottakring/67762/\nVer
 anstalter: MA 44 Wiener Bäder
DTSTAMP:20260422T050424Z
SUMMARY:Badegäste Freibad Mo-So
END:VEVENT
END:VCALENDAR
