BEGIN:VCALENDAR
VERSION:2.0
PRODID:-//pretix//pretix-PROD_Wien//
BEGIN:VEVENT
UID:pretix-baeder-ottakring-66702@ticket.wien.gv.at
DTSTART;VALUE=DATE:20250604
DTEND;VALUE=DATE:20250605
DESCRIPTION:Tickets: https://ticket.wien.gv.at/baeder/ottakring/66702/\nVer
 anstalter: MA 44 Wiener Bäder
DTSTAMP:20260425T163511Z
SUMMARY:Badegäste Freibad Mo-So
END:VEVENT
END:VCALENDAR
