BEGIN:VCALENDAR
VERSION:2.0
PRODID:-//pretix//pretix-PROD_Wien//
BEGIN:VEVENT
UID:pretix-baeder-ottakring-6669@ticket.wien.gv.at
DTSTART;VALUE=DATE:20210902
DTEND;VALUE=DATE:20210903
DESCRIPTION:Tickets: https://ticket.wien.gv.at/baeder/ottakring/6669/\nVera
 nstalter: MA 44 Wiener Bäder
DTSTAMP:20260421T074708Z
SUMMARY:Eintritt Ottakringer Bad
END:VEVENT
END:VCALENDAR
