BEGIN:VCALENDAR
VERSION:2.0
PRODID:-//pretix//pretix-PROD_Wien//
BEGIN:VEVENT
UID:pretix-baeder-ottakring-66639@ticket.wien.gv.at
DTSTART;VALUE=DATE:20250601
DTEND;VALUE=DATE:20250602
DESCRIPTION:Tickets: https://ticket.wien.gv.at/baeder/ottakring/66639/\nVer
 anstalter: MA 44 Wiener Bäder
DTSTAMP:20260421T190753Z
SUMMARY:Badegäste Freibad Mo-So
END:VEVENT
END:VCALENDAR
