BEGIN:VCALENDAR
VERSION:2.0
PRODID:-//pretix//pretix-PROD_Wien//
BEGIN:VEVENT
UID:pretix-baeder-ottakring-64716@ticket.wien.gv.at
DTSTART;VALUE=DATE:20250429
DTEND;VALUE=DATE:20250430
DESCRIPTION:Tickets: https://ticket.wien.gv.at/baeder/ottakring/64716/\nVer
 anstalter: MA 44 Wiener Bäder
DTSTAMP:20260425T205610Z
SUMMARY:Badegäste Di./Do.
END:VEVENT
END:VCALENDAR
