BEGIN:VCALENDAR
VERSION:2.0
PRODID:-//pretix//pretix-PROD_Wien//
BEGIN:VEVENT
UID:pretix-baeder-ottakring-64681@ticket.wien.gv.at
DTSTART;VALUE=DATE:20250426
DTEND;VALUE=DATE:20250427
DESCRIPTION:Tickets: https://ticket.wien.gv.at/baeder/ottakring/64681/\nVer
 anstalter: MA 44 Wiener Bäder
DTSTAMP:20260422T111059Z
SUMMARY:Badegäste Sa.
END:VEVENT
END:VCALENDAR
