BEGIN:VCALENDAR
VERSION:2.0
PRODID:-//pretix//pretix-PROD_Wien//
BEGIN:VEVENT
UID:pretix-baeder-ottakring-64603@ticket.wien.gv.at
DTSTART;VALUE=DATE:20250424
DTEND;VALUE=DATE:20250425
DESCRIPTION:Tickets: https://ticket.wien.gv.at/baeder/ottakring/64603/\nVer
 anstalter: MA 44 Wiener Bäder
DTSTAMP:20260425T190906Z
SUMMARY:Badegäste Di./Do.
END:VEVENT
END:VCALENDAR
