BEGIN:VCALENDAR
VERSION:2.0
PRODID:-//pretix//pretix-PROD_Wien//
BEGIN:VEVENT
UID:pretix-baeder-ottakring-64411@ticket.wien.gv.at
DTSTART;VALUE=DATE:20250411
DTEND;VALUE=DATE:20250412
DESCRIPTION:Tickets: https://ticket.wien.gv.at/baeder/ottakring/64411/\nVer
 anstalter: MA 44 Wiener Bäder
DTSTAMP:20260425T173529Z
SUMMARY:Badegäste Fr.
END:VEVENT
END:VCALENDAR
