BEGIN:VCALENDAR
VERSION:2.0
PRODID:-//pretix//pretix-PROD_Wien//
BEGIN:VEVENT
UID:pretix-baeder-ottakring-64335@ticket.wien.gv.at
DTSTART;VALUE=DATE:20250409
DTEND;VALUE=DATE:20250410
DESCRIPTION:Tickets: https://ticket.wien.gv.at/baeder/ottakring/64335/\nVer
 anstalter: MA 44 Wiener Bäder
DTSTAMP:20260425T160846Z
SUMMARY:Badegäste Mi.
END:VEVENT
END:VCALENDAR
