BEGIN:VCALENDAR
VERSION:2.0
PRODID:-//pretix//pretix-PROD_Wien//
BEGIN:VEVENT
UID:pretix-baeder-ottakring-64182@ticket.wien.gv.at
DTSTART;VALUE=DATE:20250404
DTEND;VALUE=DATE:20250405
DESCRIPTION:Tickets: https://ticket.wien.gv.at/baeder/ottakring/64182/\nVer
 anstalter: MA 44 Wiener Bäder
DTSTAMP:20260425T224310Z
SUMMARY:Badegäste Fr.
END:VEVENT
END:VCALENDAR
