BEGIN:VCALENDAR
VERSION:2.0
PRODID:-//pretix//pretix-PROD_Wien//
BEGIN:VEVENT
UID:pretix-baeder-ottakring-6207@ticket.wien.gv.at
DTSTART;VALUE=DATE:20210812
DTEND;VALUE=DATE:20210813
DESCRIPTION:Tickets: https://ticket.wien.gv.at/baeder/ottakring/6207/\nVera
 nstalter: MA 44 Wiener Bäder
DTSTAMP:20260422T050427Z
SUMMARY:Eintritt Ottakringer Bad
END:VEVENT
END:VCALENDAR
