BEGIN:VCALENDAR
VERSION:2.0
PRODID:-//pretix//pretix-PROD_Wien//
BEGIN:VEVENT
UID:pretix-baeder-ottakring-6119@ticket.wien.gv.at
DTSTART;VALUE=DATE:20210808
DTEND;VALUE=DATE:20210809
DESCRIPTION:Tickets: https://ticket.wien.gv.at/baeder/ottakring/6119/\nVera
 nstalter: MA 44 Wiener Bäder
DTSTAMP:20260422T052047Z
SUMMARY:Eintritt Ottakringer Bad
END:VEVENT
END:VCALENDAR
