BEGIN:VCALENDAR
VERSION:2.0
PRODID:-//pretix//pretix-PROD_Wien//
BEGIN:VEVENT
UID:pretix-baeder-ottakring-5614@ticket.wien.gv.at
DTSTART;VALUE=DATE:20210716
DTEND;VALUE=DATE:20210717
DESCRIPTION:Tickets: https://ticket.wien.gv.at/baeder/ottakring/5614/\nVera
 nstalter: MA 44 Wiener Bäder
DTSTAMP:20260422T100859Z
SUMMARY:Eintritt Ottakringer Bad
END:VEVENT
END:VCALENDAR
