BEGIN:VCALENDAR
VERSION:2.0
PRODID:-//pretix//pretix-PROD_Wien//
BEGIN:VEVENT
UID:pretix-baeder-ottakring-5525@ticket.wien.gv.at
DTSTART;VALUE=DATE:20210712
DTEND;VALUE=DATE:20210713
DESCRIPTION:Tickets: https://ticket.wien.gv.at/baeder/ottakring/5525/\nVera
 nstalter: MA 44 Wiener Bäder
DTSTAMP:20260422T100900Z
SUMMARY:Eintritt Ottakringer Bad
END:VEVENT
END:VCALENDAR
