BEGIN:VCALENDAR
VERSION:2.0
PRODID:-//pretix//pretix-PROD_Wien//
BEGIN:VEVENT
UID:pretix-baeder-ottakring-5458@ticket.wien.gv.at
DTSTART;VALUE=DATE:20210709
DTEND;VALUE=DATE:20210710
DESCRIPTION:Tickets: https://ticket.wien.gv.at/baeder/ottakring/5458/\nVera
 nstalter: MA 44 Wiener Bäder
DTSTAMP:20260422T144012Z
SUMMARY:Eintritt Ottakringer Bad
END:VEVENT
END:VCALENDAR
