BEGIN:VCALENDAR
VERSION:2.0
PRODID:-//pretix//pretix-PROD_Wien//
BEGIN:VEVENT
UID:pretix-baeder-ottakring-5281@ticket.wien.gv.at
DTSTART;VALUE=DATE:20210701
DTEND;VALUE=DATE:20210702
DESCRIPTION:Tickets: https://ticket.wien.gv.at/baeder/ottakring/5281/\nVera
 nstalter: MA 44 Wiener Bäder
DTSTAMP:20260421T152101Z
SUMMARY:Eintritt Ottakringer Bad
END:VEVENT
END:VCALENDAR
