BEGIN:VCALENDAR
VERSION:2.0
PRODID:-//pretix//pretix-PROD_Wien//
BEGIN:VEVENT
UID:pretix-baeder-ottakring-5149@ticket.wien.gv.at
DTSTART;VALUE=DATE:20210625
DTEND;VALUE=DATE:20210626
DESCRIPTION:Tickets: https://ticket.wien.gv.at/baeder/ottakring/5149/\nVera
 nstalter: MA 44 Wiener Bäder
DTSTAMP:20260421T184307Z
SUMMARY:Eintritt Ottakringer Bad
END:VEVENT
END:VCALENDAR
