BEGIN:VCALENDAR
VERSION:2.0
PRODID:-//pretix//pretix-PROD_Wien//
BEGIN:VEVENT
UID:pretix-baeder-ottakring-4908@ticket.wien.gv.at
DTSTART;VALUE=DATE:20210614
DTEND;VALUE=DATE:20210615
DESCRIPTION:Tickets: https://ticket.wien.gv.at/baeder/ottakring/4908/\nVera
 nstalter: MA 44 Wiener Bäder
DTSTAMP:20260421T204501Z
SUMMARY:Eintritt Ottakringer Bad
END:VEVENT
END:VCALENDAR
