BEGIN:VCALENDAR
VERSION:2.0
PRODID:-//pretix//pretix-PROD_Wien//
BEGIN:VEVENT
UID:pretix-baeder-ottakring-4754@ticket.wien.gv.at
DTSTART;VALUE=DATE:20210607
DTEND;VALUE=DATE:20210608
DESCRIPTION:Tickets: https://ticket.wien.gv.at/baeder/ottakring/4754/\nVera
 nstalter: MA 44 Wiener Bäder
DTSTAMP:20260421T222107Z
SUMMARY:Eintritt Ottakringer Bad
END:VEVENT
END:VCALENDAR
