BEGIN:VCALENDAR
VERSION:2.0
PRODID:-//pretix//pretix-PROD_Wien//
BEGIN:VEVENT
UID:pretix-baeder-ottakring-19069@ticket.wien.gv.at
DTSTART;VALUE=DATE:20211107
DTEND;VALUE=DATE:20211108
DESCRIPTION:Tickets: https://ticket.wien.gv.at/baeder/ottakring/19069/\nVer
 anstalter: MA 44 Wiener Bäder
DTSTAMP:20260420T031304Z
SUMMARY:Badegäste So.
END:VEVENT
END:VCALENDAR
