BEGIN:VCALENDAR
VERSION:2.0
PRODID:-//pretix//pretix-PROD_Wien//
BEGIN:VEVENT
UID:pretix-baeder-ottakring-19021@ticket.wien.gv.at
DTSTART;VALUE=DATE:20211104
DTEND;VALUE=DATE:20211105
DESCRIPTION:Tickets: https://ticket.wien.gv.at/baeder/ottakring/19021/\nVer
 anstalter: MA 44 Wiener Bäder
DTSTAMP:20260420T031307Z
SUMMARY:Badegäste Di./Do.
END:VEVENT
END:VCALENDAR
