BEGIN:VCALENDAR
VERSION:2.0
PRODID:-//pretix//pretix-PROD_Wien//
BEGIN:VEVENT
UID:pretix-baeder-ottakring-18988@ticket.wien.gv.at
DTSTART;VALUE=DATE:20211102
DTEND;VALUE=DATE:20211103
DESCRIPTION:Tickets: https://ticket.wien.gv.at/baeder/ottakring/18988/\nVer
 anstalter: MA 44 Wiener Bäder
DTSTAMP:20260420T031305Z
SUMMARY:Ferien Badegäste 02.11.2021
END:VEVENT
END:VCALENDAR
