BEGIN:VCALENDAR
VERSION:2.0
PRODID:-//pretix//pretix-PROD_Wien//
BEGIN:VEVENT
UID:pretix-baeder-ottakring-18942@ticket.wien.gv.at
DTSTART;VALUE=DATE:20211028
DTEND;VALUE=DATE:20211029
DESCRIPTION:Tickets: https://ticket.wien.gv.at/baeder/ottakring/18942/\nVer
 anstalter: MA 44 Wiener Bäder
DTSTAMP:20260422T035333Z
SUMMARY:Ferien Badegäste 28.10.2021
END:VEVENT
END:VCALENDAR
