BEGIN:VCALENDAR
VERSION:2.0
PRODID:-//pretix//pretix-PROD_Wien//
BEGIN:VEVENT
UID:pretix-baeder-ottakring-18727@ticket.wien.gv.at
DTSTART;VALUE=DATE:20211013
DTEND;VALUE=DATE:20211014
DESCRIPTION:Tickets: https://ticket.wien.gv.at/baeder/ottakring/18727/\nVer
 anstalter: MA 44 Wiener Bäder
DTSTAMP:20260421T074707Z
SUMMARY:Badegäste Mi.
END:VEVENT
END:VCALENDAR
