BEGIN:VCALENDAR
VERSION:2.0
PRODID:-//pretix//pretix-PROD_Wien//
BEGIN:VEVENT
UID:pretix-baeder-liesingerbad-53078@ticket.wien.gv.at
DTSTART;VALUE=DATE:20240729
DTEND;VALUE=DATE:20240730
DESCRIPTION:Tickets: https://ticket.wien.gv.at/baeder/liesingerbad/53078/\n
 Veranstalter: MA 44 Wiener Bäder
DTSTAMP:20260426T041603Z
SUMMARY:Badegäste Freibad Mo-So
END:VEVENT
END:VCALENDAR
