BEGIN:VCALENDAR
VERSION:2.0
PRODID:-//pretix//pretix-PROD_Wien//
BEGIN:VEVENT
UID:pretix-baeder-liesingerbad-38129@ticket.wien.gv.at
DTSTART;VALUE=DATE:20230816
DTEND;VALUE=DATE:20230817
DESCRIPTION:Tickets: https://ticket.wien.gv.at/baeder/liesingerbad/38129/\n
 Veranstalter: MA 44 Wiener Bäder
DTSTAMP:20260425T205629Z
SUMMARY:Badegäste Freibad Mo-Fr
END:VEVENT
END:VCALENDAR
