BEGIN:VCALENDAR
VERSION:2.0
PRODID:-//pretix//pretix-PROD_Wien//
BEGIN:VEVENT
UID:pretix-baeder-liesingerbad-37771@ticket.wien.gv.at
DTSTART;VALUE=DATE:20230811
DTEND;VALUE=DATE:20230812
DESCRIPTION:Tickets: https://ticket.wien.gv.at/baeder/liesingerbad/37771/\n
 Veranstalter: MA 44 Wiener Bäder
DTSTAMP:20260425T205624Z
SUMMARY:Badegäste Freibad Mo-Fr
END:VEVENT
END:VCALENDAR
