BEGIN:VCALENDAR
VERSION:2.0
PRODID:-//pretix//pretix-PROD_Wien//
BEGIN:VEVENT
UID:pretix-baeder-liesingerbad-36374@ticket.wien.gv.at
DTSTART;VALUE=DATE:20230731
DTEND;VALUE=DATE:20230801
DESCRIPTION:Tickets: https://ticket.wien.gv.at/baeder/liesingerbad/36374/\n
 Veranstalter: MA 44 Wiener Bäder
DTSTAMP:20260422T215649Z
SUMMARY:Badegäste Freibad Mo-Fr
END:VEVENT
END:VCALENDAR
