BEGIN:VCALENDAR
VERSION:2.0
PRODID:-//pretix//pretix-PROD_Wien//
BEGIN:VEVENT
UID:pretix-baeder-liesingerbad-36195@ticket.wien.gv.at
DTSTART;VALUE=DATE:20230723
DTEND;VALUE=DATE:20230724
DESCRIPTION:Tickets: https://ticket.wien.gv.at/baeder/liesingerbad/36195/\n
 Veranstalter: MA 44 Wiener Bäder
DTSTAMP:20260426T000029Z
SUMMARY:Badegäste Freibad Sa/So
END:VEVENT
END:VCALENDAR
