BEGIN:VCALENDAR
VERSION:2.0
PRODID:-//pretix//pretix-PROD_Wien//
BEGIN:VEVENT
UID:pretix-baeder-liesingerbad-35975@ticket.wien.gv.at
DTSTART;VALUE=DATE:20230714
DTEND;VALUE=DATE:20230715
DESCRIPTION:Tickets: https://ticket.wien.gv.at/baeder/liesingerbad/35975/\n
 Veranstalter: MA 44 Wiener Bäder
DTSTAMP:20260425T224311Z
SUMMARY:Badegäste Freibad Mo-Fr
END:VEVENT
END:VCALENDAR
