BEGIN:VCALENDAR
VERSION:2.0
PRODID:-//pretix//pretix-PROD_Wien//
BEGIN:VEVENT
UID:pretix-baeder-liesingerbad-34596@ticket.wien.gv.at
DTSTART;VALUE=DATE:20230622
DTEND;VALUE=DATE:20230623
DESCRIPTION:Tickets: https://ticket.wien.gv.at/baeder/liesingerbad/34596/\n
 Veranstalter: MA 44 Wiener Bäder
DTSTAMP:20260425T163546Z
SUMMARY:Badegäste Freibad Mo-Fr
END:VEVENT
END:VCALENDAR
