BEGIN:VCALENDAR
VERSION:2.0
PRODID:-//pretix//pretix-PROD_Wien//
BEGIN:VEVENT
UID:pretix-baeder-liesingerbad-34210@ticket.wien.gv.at
DTSTART;VALUE=DATE:20230610
DTEND;VALUE=DATE:20230611
DESCRIPTION:Tickets: https://ticket.wien.gv.at/baeder/liesingerbad/34210/\n
 Veranstalter: MA 44 Wiener Bäder
DTSTAMP:20260425T163547Z
SUMMARY:Badegäste Freibad Sa/So
END:VEVENT
END:VCALENDAR
