BEGIN:VCALENDAR
VERSION:2.0
PRODID:-//pretix//pretix-PROD_Wien//
BEGIN:VEVENT
UID:pretix-baeder-liesingerbad-33045@ticket.wien.gv.at
DTSTART;VALUE=DATE:20230522
DTEND;VALUE=DATE:20230523
DESCRIPTION:Tickets: https://ticket.wien.gv.at/baeder/liesingerbad/33045/\n
 Veranstalter: MA 44 Wiener Bäder
DTSTAMP:20260423T183845Z
SUMMARY:Badegäste Freibad Mo-Fr
END:VEVENT
END:VCALENDAR
