BEGIN:VCALENDAR
VERSION:2.0
PRODID:-//pretix//pretix-PROD_Wien//
BEGIN:VEVENT
UID:pretix-baeder-liesingerbad-32734@ticket.wien.gv.at
DTSTART;VALUE=DATE:20230517
DTEND;VALUE=DATE:20230518
DESCRIPTION:Tickets: https://ticket.wien.gv.at/baeder/liesingerbad/32734/\n
 Veranstalter: MA 44 Wiener Bäder
DTSTAMP:20260425T160845Z
SUMMARY:Badegäste Freibad Mo-Fr
END:VEVENT
END:VCALENDAR
