BEGIN:VCALENDAR
VERSION:2.0
PRODID:-//pretix//pretix-PROD_Wien//
BEGIN:VEVENT
UID:pretix-baeder-liesingerbad-32688@ticket.wien.gv.at
DTSTART;VALUE=DATE:20230515
DTEND;VALUE=DATE:20230516
DESCRIPTION:Tickets: https://ticket.wien.gv.at/baeder/liesingerbad/32688/\n
 Veranstalter: MA 44 Wiener Bäder
DTSTAMP:20260425T163546Z
SUMMARY:Badegäste Freibad Mo-Fr
END:VEVENT
END:VCALENDAR
