BEGIN:VCALENDAR
VERSION:2.0
PRODID:-//pretix//pretix-PROD_Wien//
BEGIN:VEVENT
UID:pretix-baeder-liesingerbad-32646@ticket.wien.gv.at
DTSTART;VALUE=DATE:20230513
DTEND;VALUE=DATE:20230514
DESCRIPTION:Tickets: https://ticket.wien.gv.at/baeder/liesingerbad/32646/\n
 Veranstalter: MA 44 Wiener Bäder
DTSTAMP:20260425T160845Z
SUMMARY:Badegäste Freibad Sa/So
END:VEVENT
END:VCALENDAR
