BEGIN:VCALENDAR
VERSION:2.0
PRODID:-//pretix//pretix-PROD_Wien//
BEGIN:VEVENT
UID:pretix-baeder-laaerbergbad-68988@ticket.wien.gv.at
DTSTART;VALUE=DATE:20250718
DTEND;VALUE=DATE:20250719
DESCRIPTION:Tickets: https://ticket.wien.gv.at/baeder/laaerbergbad/68988/\n
 Veranstalter: MA 44 Wiener Bäder
DTSTAMP:20260425T185335Z
SUMMARY:Badegäste Freibad Mo-So
END:VEVENT
END:VCALENDAR
