BEGIN:VCALENDAR
VERSION:2.0
PRODID:-//pretix//pretix-PROD_Wien//
BEGIN:VEVENT
UID:pretix-baeder-laaerbergbad-24358@ticket.wien.gv.at
DTSTART;VALUE=DATE:20220813
DTEND;VALUE=DATE:20220814
DESCRIPTION:Tickets: https://ticket.wien.gv.at/baeder/laaerbergbad/24358/\n
 Veranstalter: MA 44 Wiener Bäder
DTSTAMP:20260425T201053Z
SUMMARY:Badegäste Freibad Sa\, So
END:VEVENT
END:VCALENDAR
