BEGIN:VCALENDAR
VERSION:2.0
PRODID:-//pretix//pretix-PROD_Wien//
BEGIN:VEVENT
UID:pretix-baeder-laaerbergbad-23842@ticket.wien.gv.at
DTSTART;VALUE=DATE:20220724
DTEND;VALUE=DATE:20220725
DESCRIPTION:Tickets: https://ticket.wien.gv.at/baeder/laaerbergbad/23842/\n
 Veranstalter: MA 44 Wiener Bäder
DTSTAMP:20260426T001335Z
SUMMARY:Badegäste Freibad Sa\, So
END:VEVENT
END:VCALENDAR
