BEGIN:VCALENDAR
VERSION:2.0
PRODID:-//pretix//pretix-PROD_Wien//
BEGIN:VEVENT
UID:pretix-baeder-laaerbergbad-23664@ticket.wien.gv.at
DTSTART;VALUE=DATE:20220717
DTEND;VALUE=DATE:20220718
DESCRIPTION:Tickets: https://ticket.wien.gv.at/baeder/laaerbergbad/23664/\n
 Veranstalter: MA 44 Wiener Bäder
DTSTAMP:20260425T163506Z
SUMMARY:Badegäste Freibad Sa\, So
END:VEVENT
END:VCALENDAR
