BEGIN:VCALENDAR
VERSION:2.0
PRODID:-//pretix//pretix-PROD_Wien//
BEGIN:VEVENT
UID:pretix-baeder-laaerbergbad-22517@ticket.wien.gv.at
DTSTART;VALUE=DATE:20220608
DTEND;VALUE=DATE:20220609
DESCRIPTION:Tickets: https://ticket.wien.gv.at/baeder/laaerbergbad/22517/\n
 Veranstalter: MA 44 Wiener Bäder
DTSTAMP:20260425T201047Z
SUMMARY:Badegäste Freibad Mo-Fr
END:VEVENT
END:VCALENDAR
