BEGIN:VCALENDAR
VERSION:2.0
PRODID:-//pretix//pretix-PROD_Wien//
BEGIN:VEVENT
UID:pretix-baeder-krapfenwaldlbad-6270@ticket.wien.gv.at
DTSTART;VALUE=DATE:20210815
DTEND;VALUE=DATE:20210816
DESCRIPTION:Tickets: https://ticket.wien.gv.at/baeder/krapfenwaldlbad/6270/
 \nVeranstalter: MA 44 Wiener Bäder
DTSTAMP:20260425T221535Z
SUMMARY:Eintritt Krapfenwaldlbad
END:VEVENT
END:VCALENDAR
